BEGIN:VCALENDAR
VERSION:2.0
PRODID:-//kittsonhc.org//NONSGML kigkonsult.se iCalcreator 2.30.10//
CALSCALE:GREGORIAN
METHOD:PUBLISH
UID:367c7119-6b3b-4cd7-b1cb-f74cb71117a0
X-WR-CALDESC:
X-WR-RELCALID:86820357f971f167ac21127a1c446e20
X-WR-TIMEZONE:America/Chicago
BEGIN:VTIMEZONE
TZID:America/Chicago
BEGIN:STANDARD
TZNAME:CST
DTSTART:20261101T020000
TZOFFSETFROM:-0500
TZOFFSETTO:-0600
RDATE:20271107T020000
END:STANDARD
BEGIN:DAYLIGHT
TZNAME:CDT
DTSTART:20260308T020000
TZOFFSETFROM:-0600
TZOFFSETTO:-0500
RDATE:20270314T020000
RDATE:20280312T020000
END:DAYLIGHT
END:VTIMEZONE
BEGIN:VEVENT
UID:767cabcc-3a8f-4b26-982b-022b824945ab
DTSTAMP:20260423T010459Z
DESCRIPTION:
DTSTART;TZID=America/Chicago:20261224T050000
DTEND;TZID=America/Chicago:20261224T050001
LOCATION:
SUMMARY:Christmas Eve: Closing at 1:00
END:VEVENT
END:VCALENDAR
