BEGIN:VCALENDAR
VERSION:2.0
PRODID:-//kittsonhc.org//NONSGML kigkonsult.se iCalcreator 2.30.10//
CALSCALE:GREGORIAN
METHOD:PUBLISH
UID:0485a504-037a-48e6-8865-b4de28bdc11a
X-WR-CALDESC:
X-WR-RELCALID:271004de5e45e7e3e37290ea51aea981
X-WR-TIMEZONE:America/Chicago
BEGIN:VTIMEZONE
TZID:America/Chicago
BEGIN:STANDARD
TZNAME:CST
DTSTART:20261101T020000
TZOFFSETFROM:-0500
TZOFFSETTO:-0600
RDATE:20271107T020000
END:STANDARD
BEGIN:DAYLIGHT
TZNAME:CDT
DTSTART:20260308T020000
TZOFFSETFROM:-0600
TZOFFSETTO:-0500
RDATE:20270314T020000
RDATE:20280312T020000
END:DAYLIGHT
END:VTIMEZONE
BEGIN:VEVENT
UID:30629319-4fad-4f52-a50e-c7d084421317
DTSTAMP:20260422T230250Z
DESCRIPTION:
DTSTART;TZID=America/Chicago:20261126T050000
DTEND;TZID=America/Chicago:20261126T050001
LOCATION:
SUMMARY:Thanksgiving Day—Closed
END:VEVENT
END:VCALENDAR
