BEGIN:VCALENDAR
VERSION:2.0
PRODID:-//kittsonhc.org//NONSGML kigkonsult.se iCalcreator 2.30.10//
CALSCALE:GREGORIAN
METHOD:PUBLISH
UID:5331fafc-7bec-4665-afea-872533aa9633
X-WR-CALDESC:
X-WR-RELCALID:e59d03f52b61c874d085826f8c62624a
X-WR-TIMEZONE:America/Chicago
BEGIN:VTIMEZONE
TZID:America/Chicago
BEGIN:STANDARD
TZNAME:CST
DTSTART:20251102T020000
TZOFFSETFROM:-0500
TZOFFSETTO:-0600
RDATE:20261101T020000
RDATE:20271107T020000
END:STANDARD
BEGIN:DAYLIGHT
TZNAME:CDT
DTSTART:20260308T020000
TZOFFSETFROM:-0600
TZOFFSETTO:-0500
RDATE:20270314T020000
END:DAYLIGHT
END:VTIMEZONE
BEGIN:VEVENT
UID:9fab668c-0e6e-4fd9-9ca5-e1d08cb50016
DTSTAMP:20260422T155133Z
DESCRIPTION:
DTSTART;TZID=America/Chicago:20260703T050000
DTEND;TZID=America/Chicago:20260703T050001
LOCATION:
SUMMARY:Independence Day Observed—Closed
END:VEVENT
END:VCALENDAR
