BEGIN:VCALENDAR
VERSION:2.0
PRODID:-//kittsonhc.org//NONSGML kigkonsult.se iCalcreator 2.30.10//
CALSCALE:GREGORIAN
METHOD:PUBLISH
UID:538c6562-e4cb-43fe-ab1e-b602f1ef55cd
X-WR-CALDESC:
X-WR-RELCALID:1e0479b70659caf9c3003a7299464bbd
X-WR-TIMEZONE:America/Chicago
BEGIN:VTIMEZONE
TZID:America/Chicago
BEGIN:STANDARD
TZNAME:CST
DTSTART:20251102T020000
TZOFFSETFROM:-0500
TZOFFSETTO:-0600
RDATE:20261101T020000
END:STANDARD
BEGIN:DAYLIGHT
TZNAME:CDT
DTSTART:20250309T020000
TZOFFSETFROM:-0600
TZOFFSETTO:-0500
RDATE:20260308T020000
RDATE:20270314T020000
END:DAYLIGHT
END:VTIMEZONE
BEGIN:VEVENT
UID:6a96736c-fb97-43ed-a634-3f349b23f1b2
DTSTAMP:20260422T180023Z
DESCRIPTION:
DTSTART;TZID=America/Chicago:20251231T050000
DTEND;TZID=America/Chicago:20251231T050001
LOCATION:
SUMMARY:New Year's Eve: Closing at 2:00 PM
END:VEVENT
END:VCALENDAR
