BEGIN:VCALENDAR
VERSION:2.0
PRODID:-//kittsonhc.org//NONSGML kigkonsult.se iCalcreator 2.30.10//
CALSCALE:GREGORIAN
METHOD:PUBLISH
UID:921c041c-e484-45f4-a6c6-12f262eab1c3
X-WR-CALDESC:
X-WR-RELCALID:56943cf240fadf47f2687c8024fba19d
X-WR-TIMEZONE:America/Chicago
BEGIN:VTIMEZONE
TZID:America/Chicago
BEGIN:STANDARD
TZNAME:CST
DTSTART:20251102T020000
TZOFFSETFROM:-0500
TZOFFSETTO:-0600
RDATE:20261101T020000
END:STANDARD
BEGIN:DAYLIGHT
TZNAME:CDT
DTSTART:20250309T020000
TZOFFSETFROM:-0600
TZOFFSETTO:-0500
RDATE:20260308T020000
RDATE:20270314T020000
END:DAYLIGHT
END:VTIMEZONE
BEGIN:VEVENT
UID:5a00c682-c700-4315-9d65-2b092b10654b
DTSTAMP:20260422T175028Z
DESCRIPTION:
DTSTART;TZID=America/Chicago:20251225T050000
DTEND;TZID=America/Chicago:20251225T050001
LOCATION:
SUMMARY:Christmas Day—Closed
END:VEVENT
END:VCALENDAR
