BEGIN:VCALENDAR
VERSION:2.0
PRODID:-//kittsonhc.org//NONSGML kigkonsult.se iCalcreator 2.30.10//
CALSCALE:GREGORIAN
METHOD:PUBLISH
UID:7bd5a44b-d93f-46f5-8efe-1650ce7419ba
X-WR-CALDESC:
X-WR-RELCALID:1174f18164908980c9bdb17cbe1b89b8
X-WR-TIMEZONE:America/Chicago
BEGIN:VTIMEZONE
TZID:America/Chicago
BEGIN:STANDARD
TZNAME:CST
DTSTART:20251102T020000
TZOFFSETFROM:-0500
TZOFFSETTO:-0600
RDATE:20261101T020000
END:STANDARD
BEGIN:DAYLIGHT
TZNAME:CDT
DTSTART:20250309T020000
TZOFFSETFROM:-0600
TZOFFSETTO:-0500
RDATE:20260308T020000
RDATE:20270314T020000
END:DAYLIGHT
END:VTIMEZONE
BEGIN:VEVENT
UID:c24798c7-38a3-49d4-afd1-d44c56206d40
DTSTAMP:20260422T175304Z
DESCRIPTION:
DTSTART;TZID=America/Chicago:20251224T050000
DTEND;TZID=America/Chicago:20251224T050001
LOCATION:
SUMMARY:Christmas Eve: Closing at 1:00
END:VEVENT
END:VCALENDAR
