BEGIN:VCALENDAR
VERSION:2.0
PRODID:-//kittsonhc.org//NONSGML kigkonsult.se iCalcreator 2.30.10//
CALSCALE:GREGORIAN
METHOD:PUBLISH
UID:ece277d7-9972-43e1-a4c3-c531f9b8e42a
X-WR-CALDESC:
X-WR-RELCALID:8c4c2bc42f70a0632fa9530c0871eb62
X-WR-TIMEZONE:America/Chicago
BEGIN:VTIMEZONE
TZID:America/Chicago
BEGIN:STANDARD
TZNAME:CST
DTSTART:20251102T020000
TZOFFSETFROM:-0500
TZOFFSETTO:-0600
RDATE:20261101T020000
END:STANDARD
BEGIN:DAYLIGHT
TZNAME:CDT
DTSTART:20250309T020000
TZOFFSETFROM:-0600
TZOFFSETTO:-0500
RDATE:20260308T020000
RDATE:20270314T020000
END:DAYLIGHT
END:VTIMEZONE
BEGIN:VEVENT
UID:c1e6fc99-e72d-46dc-9473-dbce0444915a
DTSTAMP:20260422T193525Z
DESCRIPTION:
DTSTART;TZID=America/Chicago:20251127T050000
DTEND;TZID=America/Chicago:20251127T050001
LOCATION:
SUMMARY:Thanksgiving Day—Closed
END:VEVENT
END:VCALENDAR
