BEGIN:VCALENDAR
VERSION:2.0
PRODID:-//kittsonhc.org//NONSGML kigkonsult.se iCalcreator 2.30.10//
CALSCALE:GREGORIAN
METHOD:PUBLISH
UID:f6084390-ccbc-4968-b3fd-a3820495fa32
X-WR-CALDESC:
X-WR-RELCALID:eaa429dbb1c720f600c9136a4fe16354
X-WR-TIMEZONE:America/Chicago
BEGIN:VTIMEZONE
TZID:America/Chicago
BEGIN:STANDARD
TZNAME:CST
DTSTART:20241103T020000
TZOFFSETFROM:-0500
TZOFFSETTO:-0600
RDATE:20251102T020000
RDATE:20261101T020000
END:STANDARD
BEGIN:DAYLIGHT
TZNAME:CDT
DTSTART:20250309T020000
TZOFFSETFROM:-0600
TZOFFSETTO:-0500
RDATE:20260308T020000
END:DAYLIGHT
END:VTIMEZONE
BEGIN:VEVENT
UID:ba2229ab-0b2c-4f82-8abe-6e0851fa6ea5
DTSTAMP:20260423T025752Z
DESCRIPTION:
DTSTART;TZID=America/Chicago:20250704T050000
DTEND;TZID=America/Chicago:20250704T050001
LOCATION:
SUMMARY:Independence Day—Closed
END:VEVENT
END:VCALENDAR
