BEGIN:VCALENDAR
VERSION:2.0
PRODID:-//kittsonhc.org//NONSGML kigkonsult.se iCalcreator 2.30.10//
CALSCALE:GREGORIAN
METHOD:PUBLISH
UID:16aafa64-6a91-445d-8f0e-92e02b156012
X-WR-CALDESC:
X-WR-RELCALID:a26b637cce8a1997b4721cd9d43fda34
X-WR-TIMEZONE:America/Chicago
BEGIN:VTIMEZONE
TZID:America/Chicago
BEGIN:STANDARD
TZNAME:CST
DTSTART:20231105T020000
TZOFFSETFROM:-0500
TZOFFSETTO:-0600
RDATE:20241103T020000
RDATE:20251102T020000
END:STANDARD
BEGIN:DAYLIGHT
TZNAME:CDT
DTSTART:20240310T020000
TZOFFSETFROM:-0600
TZOFFSETTO:-0500
RDATE:20250309T020000
RDATE:20260308T020000
END:DAYLIGHT
END:VTIMEZONE
BEGIN:VEVENT
UID:9d1cee68-7b4f-447c-ab55-fc932396f5b6
DTSTAMP:20260423T181142Z
DESCRIPTION:
DTSTART;TZID=America/Chicago:20241029T140000
DTEND;TZID=America/Chicago:20241029T150000
LOCATION:410 Minnesota Ave.\, Lancaster\, MN 56735 US
SUMMARY:Lancaster Sr Housing Foot Care/BP Screening
END:VEVENT
END:VCALENDAR
