BEGIN:VCALENDAR
VERSION:2.0
PRODID:-//kittsonhc.org//NONSGML kigkonsult.se iCalcreator 2.30.10//
CALSCALE:GREGORIAN
METHOD:PUBLISH
UID:6dfb9a1a-4c36-447d-a4f3-bc3538068a3d
X-WR-CALDESC:Kittson Healthcare Public Health will be hosting a Health & We
 llness Fair at The Station Senior Center in Hallock on Tuesday\, October 2
 2nd from 3:00 pm - 7:00 pm.
X-WR-RELCALID:671424704c05f83e03d914f09bda1887
X-WR-TIMEZONE:America/Chicago
BEGIN:VTIMEZONE
TZID:America/Chicago
BEGIN:STANDARD
TZNAME:CST
DTSTART:20231105T020000
TZOFFSETFROM:-0500
TZOFFSETTO:-0600
RDATE:20241103T020000
RDATE:20251102T020000
END:STANDARD
BEGIN:DAYLIGHT
TZNAME:CDT
DTSTART:20240310T020000
TZOFFSETFROM:-0600
TZOFFSETTO:-0500
RDATE:20250309T020000
RDATE:20260308T020000
END:DAYLIGHT
END:VTIMEZONE
BEGIN:VEVENT
UID:28f91c4e-76ce-4cf3-a72a-7c1b7d6035f9
DTSTAMP:20260423T182458Z
DESCRIPTION:Kittson Healthcare Public Health will be hosting a Health & Wel
 lness Fair at The Station Senior Center in Hallock on Tuesday\, October 22
 nd from 3:00 pm - 7:00 pm.
DTSTART;TZID=America/Chicago:20241022T150000
DTEND;TZID=America/Chicago:20241022T190000
LOCATION:210 2nd St SW\, Hallock\, MN 56728 US
SUMMARY:Health & Wellness Fair
END:VEVENT
END:VCALENDAR
