BEGIN:VCALENDAR
VERSION:2.0
PRODID:-//kittsonhc.org//NONSGML kigkonsult.se iCalcreator 2.30.10//
CALSCALE:GREGORIAN
METHOD:PUBLISH
UID:2aba1db3-5886-4f1e-87f5-22a20179b29e
X-WR-CALDESC:
X-WR-RELCALID:e1bc603ab5c9a582ed2fd5bb061d6306
X-WR-TIMEZONE:America/Chicago
BEGIN:VTIMEZONE
TZID:America/Chicago
BEGIN:STANDARD
TZNAME:CST
DTSTART:20231105T020000
TZOFFSETFROM:-0500
TZOFFSETTO:-0600
RDATE:20241103T020000
RDATE:20251102T020000
END:STANDARD
BEGIN:DAYLIGHT
TZNAME:CDT
DTSTART:20240310T020000
TZOFFSETFROM:-0600
TZOFFSETTO:-0500
RDATE:20250309T020000
RDATE:20260308T020000
END:DAYLIGHT
END:VTIMEZONE
BEGIN:VEVENT
UID:6c2d029d-1701-4663-8090-ce1e4d208862
DTSTAMP:20260423T182459Z
DESCRIPTION:
DTSTART;TZID=America/Chicago:20241015T140000
DTEND;TZID=America/Chicago:20241015T150000
LOCATION:104 Main St S\, Karlstad\, MN 56732 US
SUMMARY:Karlstad Community Ctr Foot Care/BP Screening
END:VEVENT
END:VCALENDAR
