BEGIN:VCALENDAR
VERSION:2.0
PRODID:-//kittsonhc.org//NONSGML kigkonsult.se iCalcreator 2.30.10//
CALSCALE:GREGORIAN
METHOD:PUBLISH
UID:bd810de1-f66e-474b-8119-8d23a5cb6083
X-WR-CALDESC:
X-WR-RELCALID:6503c5df565349d123ff151cff14127d
X-WR-TIMEZONE:America/Chicago
BEGIN:VTIMEZONE
TZID:America/Chicago
BEGIN:STANDARD
TZNAME:CST
DTSTART:20231105T020000
TZOFFSETFROM:-0500
TZOFFSETTO:-0600
RDATE:20241103T020000
RDATE:20251102T020000
END:STANDARD
BEGIN:DAYLIGHT
TZNAME:CDT
DTSTART:20240310T020000
TZOFFSETFROM:-0600
TZOFFSETTO:-0500
RDATE:20250309T020000
RDATE:20260308T020000
END:DAYLIGHT
END:VTIMEZONE
BEGIN:VEVENT
UID:85d5a44e-0e48-453d-ae1d-d37d524e56dd
DTSTAMP:20260423T181131Z
DESCRIPTION:
DTSTART;TZID=America/Chicago:20241008T140000
DTEND;TZID=America/Chicago:20241008T150000
LOCATION:112 Main St.\, Lake Bronson\, MN 56728 US
SUMMARY:Lake Bronson Community Ctr Foot Care/BP Screening
END:VEVENT
END:VCALENDAR
