BEGIN:VCALENDAR
VERSION:2.0
PRODID:-//kittsonhc.org//NONSGML kigkonsult.se iCalcreator 2.30.10//
CALSCALE:GREGORIAN
METHOD:PUBLISH
UID:408a89c7-0ab7-4cd5-9596-1a645e2357ad
X-WR-CALDESC:
X-WR-RELCALID:9861fae54e8bc1e3f1251447cb92b14d
X-WR-TIMEZONE:America/Chicago
BEGIN:VTIMEZONE
TZID:America/Chicago
BEGIN:STANDARD
TZNAME:CST
DTSTART:20231105T020000
TZOFFSETFROM:-0500
TZOFFSETTO:-0600
RDATE:20241103T020000
RDATE:20251102T020000
END:STANDARD
BEGIN:DAYLIGHT
TZNAME:CDT
DTSTART:20240310T020000
TZOFFSETFROM:-0600
TZOFFSETTO:-0500
RDATE:20250309T020000
RDATE:20260308T020000
END:DAYLIGHT
END:VTIMEZONE
BEGIN:VEVENT
UID:e353d8f3-f7fd-4884-a650-05798f633e43
DTSTAMP:20260423T181423Z
DESCRIPTION:
DTSTART;TZID=America/Chicago:20241001T140000
DTEND;TZID=America/Chicago:20241001T150000
LOCATION:210 2nd St SW\, Hallock\, MN 56728 US
SUMMARY:The Station Sr Ctr
END:VEVENT
END:VCALENDAR
