BEGIN:VCALENDAR
VERSION:2.0
PRODID:-//kittsonhc.org//NONSGML kigkonsult.se iCalcreator 2.30.10//
CALSCALE:GREGORIAN
METHOD:PUBLISH
UID:d2d17c56-f2d9-474f-aa84-a4fa241e4ba6
X-WR-CALDESC:
X-WR-RELCALID:4b3b7b22bd7fc19d8ee60d9f24142296
X-WR-TIMEZONE:America/Chicago
BEGIN:VTIMEZONE
TZID:America/Chicago
BEGIN:STANDARD
TZNAME:CST
DTSTART:20231105T020000
TZOFFSETFROM:-0500
TZOFFSETTO:-0600
RDATE:20241103T020000
RDATE:20251102T020000
END:STANDARD
BEGIN:DAYLIGHT
TZNAME:CDT
DTSTART:20240310T020000
TZOFFSETFROM:-0600
TZOFFSETTO:-0500
RDATE:20250309T020000
RDATE:20260308T020000
END:DAYLIGHT
END:VTIMEZONE
BEGIN:VEVENT
UID:a0beaf20-6338-4723-9bdd-c1870f9b6121
DTSTAMP:20260423T194621Z
DESCRIPTION:
DTSTART;TZID=America/Chicago:20240926T110000
DTEND;TZID=America/Chicago:20240926T120000
LOCATION:410 Minnesota Ave.\, Lancaster\, MN 56735 US
SUMMARY:Lancaster Housing Foot Care/BP Screenings
END:VEVENT
END:VCALENDAR
