BEGIN:VCALENDAR
VERSION:2.0
PRODID:-//kittsonhc.org//NONSGML kigkonsult.se iCalcreator 2.30.10//
CALSCALE:GREGORIAN
METHOD:PUBLISH
UID:36108489-d7dd-4ad8-b4dd-a1fa2a7d3441
X-WR-CALDESC:
X-WR-RELCALID:0115ccef0a8e31e90b4433d7d90ea7ad
X-WR-TIMEZONE:America/Chicago
BEGIN:VTIMEZONE
TZID:America/Chicago
BEGIN:STANDARD
TZNAME:CST
DTSTART:20231105T020000
TZOFFSETFROM:-0500
TZOFFSETTO:-0600
RDATE:20241103T020000
RDATE:20251102T020000
END:STANDARD
BEGIN:DAYLIGHT
TZNAME:CDT
DTSTART:20240310T020000
TZOFFSETFROM:-0600
TZOFFSETTO:-0500
RDATE:20250309T020000
RDATE:20260308T020000
END:DAYLIGHT
END:VTIMEZONE
BEGIN:VEVENT
UID:50b360a7-3738-4220-aa9d-3d3c16af0275
DTSTAMP:20260423T194049Z
DESCRIPTION:
DTSTART;TZID=America/Chicago:20240917T143000
DTEND;TZID=America/Chicago:20240917T153000
LOCATION:401 Main St S\, Karlstad\, MN 56732 US
SUMMARY:Karlstad Community Center Foot Care/BP Screenings
END:VEVENT
END:VCALENDAR
