BEGIN:VCALENDAR
VERSION:2.0
PRODID:-//kittsonhc.org//NONSGML kigkonsult.se iCalcreator 2.30.10//
CALSCALE:GREGORIAN
METHOD:PUBLISH
UID:b9c54abf-fb83-4f24-a5ec-ba7102d76838
X-WR-CALDESC:
X-WR-RELCALID:69da030521b4bf07932349b68117e6a3
X-WR-TIMEZONE:America/Chicago
BEGIN:VTIMEZONE
TZID:America/Chicago
BEGIN:STANDARD
TZNAME:CST
DTSTART:20231105T020000
TZOFFSETFROM:-0500
TZOFFSETTO:-0600
RDATE:20241103T020000
RDATE:20251102T020000
END:STANDARD
BEGIN:DAYLIGHT
TZNAME:CDT
DTSTART:20240310T020000
TZOFFSETFROM:-0600
TZOFFSETTO:-0500
RDATE:20250309T020000
RDATE:20260308T020000
END:DAYLIGHT
END:VTIMEZONE
BEGIN:VEVENT
UID:5626d43b-23db-4867-9d69-e55d084e7ed6
DTSTAMP:20260423T194843Z
DESCRIPTION:
DTSTART;TZID=America/Chicago:20240910T140000
DTEND;TZID=America/Chicago:20240910T150000
LOCATION:112 Main St.\, Lake Bronson\, MN 56734 US
SUMMARY:Lake Bronson Community Center BP Screening
END:VEVENT
END:VCALENDAR
