BEGIN:VCALENDAR
VERSION:2.0
PRODID:-//kittsonhc.org//NONSGML kigkonsult.se iCalcreator 2.30.10//
CALSCALE:GREGORIAN
METHOD:PUBLISH
UID:9dc2d8f3-ebb1-46bf-b861-ce4294109adb
X-WR-CALDESC:
X-WR-RELCALID:ba9f04c5856db8b7091cbb145713c5d8
X-WR-TIMEZONE:America/Chicago
BEGIN:VTIMEZONE
TZID:America/Chicago
BEGIN:STANDARD
TZNAME:CST
DTSTART:20231105T020000
TZOFFSETFROM:-0500
TZOFFSETTO:-0600
RDATE:20241103T020000
RDATE:20251102T020000
END:STANDARD
BEGIN:DAYLIGHT
TZNAME:CDT
DTSTART:20240310T020000
TZOFFSETFROM:-0600
TZOFFSETTO:-0500
RDATE:20250309T020000
RDATE:20260308T020000
END:DAYLIGHT
END:VTIMEZONE
BEGIN:VEVENT
UID:db90ec7f-e776-46c1-968c-e312ef0b21cf
DTSTAMP:20260423T194807Z
DESCRIPTION:
DTSTART;TZID=America/Chicago:20240910T103000
DTEND;TZID=America/Chicago:20240910T120000
LOCATION:408 Atlantic Ave.\, Kennedy\, MN 56733 US
SUMMARY:Kennedy Center Foot Care/BP Screenings
END:VEVENT
END:VCALENDAR
