BEGIN:VCALENDAR
VERSION:2.0
PRODID:-//kittsonhc.org//NONSGML kigkonsult.se iCalcreator 2.30.10//
CALSCALE:GREGORIAN
METHOD:PUBLISH
UID:992c06f2-61bf-4115-a6e0-b4931d5ec1c8
X-WR-CALDESC:
X-WR-RELCALID:e965b24e490277094005d721580b14d3
X-WR-TIMEZONE:America/Chicago
BEGIN:VTIMEZONE
TZID:America/Chicago
BEGIN:STANDARD
TZNAME:CST
DTSTART:20231105T020000
TZOFFSETFROM:-0500
TZOFFSETTO:-0600
RDATE:20241103T020000
RDATE:20251102T020000
END:STANDARD
BEGIN:DAYLIGHT
TZNAME:CDT
DTSTART:20240310T020000
TZOFFSETFROM:-0600
TZOFFSETTO:-0500
RDATE:20250309T020000
END:DAYLIGHT
END:VTIMEZONE
BEGIN:VEVENT
UID:c9eaa306-100a-470c-9670-c2890eaec02e
DTSTAMP:20260423T194146Z
DESCRIPTION:
DTSTART;TZID=America/Chicago:20240903T140000
DTEND;TZID=America/Chicago:20240903T150000
LOCATION:210 2nd St SW\, Hallock\, MN 56728 US
SUMMARY:The Station Senior Center Foot Care/BP Screenings
END:VEVENT
END:VCALENDAR
