BEGIN:VCALENDAR
VERSION:2.0
PRODID:-//kittsonhc.org//NONSGML kigkonsult.se iCalcreator 2.30.10//
CALSCALE:GREGORIAN
METHOD:PUBLISH
UID:b54f0758-eb58-4776-b444-3b3530e7864e
X-WR-CALDESC:We will be drawing for the winners of the Back to School Backp
 acks at approximately 5:00 pm on August 30\, 2024. There will be one boy w
 inner and one girl winner. Winners will be contacted at that time.
X-WR-RELCALID:efe81b76537437ac34c6e57fea2acd1e
X-WR-TIMEZONE:America/Chicago
BEGIN:VTIMEZONE
TZID:America/Chicago
BEGIN:STANDARD
TZNAME:CST
DTSTART:20231105T020000
TZOFFSETFROM:-0500
TZOFFSETTO:-0600
RDATE:20241103T020000
RDATE:20251102T020000
END:STANDARD
BEGIN:DAYLIGHT
TZNAME:CDT
DTSTART:20240310T020000
TZOFFSETFROM:-0600
TZOFFSETTO:-0500
RDATE:20250309T020000
END:DAYLIGHT
END:VTIMEZONE
BEGIN:VEVENT
UID:b223df60-24b6-4725-86fd-1ca945d8bdd7
DTSTAMP:20260423T221718Z
DESCRIPTION:We will be drawing for the winners of the Back to School Backpa
 cks at approximately 5:00 pm on August 30\, 2024. There will be one boy wi
 nner and one girl winner. Winners will be contacted at that time.
DTSTART;TZID=America/Chicago:20240830T170000
DTEND;TZID=America/Chicago:20240830T171500
LOCATION:1010 S Birch Ave.\, Hallock\, MN 56728 US
SUMMARY:Back to School Backpack Drawing
END:VEVENT
END:VCALENDAR
