BEGIN:VCALENDAR
VERSION:2.0
PRODID:-//kittsonhc.org//NONSGML kigkonsult.se iCalcreator 2.30.10//
CALSCALE:GREGORIAN
METHOD:PUBLISH
UID:e0c8ad4f-63d4-4a4f-bb12-fd6a3e5622b8
X-WR-CALDESC:
X-WR-RELCALID:d1eb4243b5e144a548d33f5b32ed68ce
X-WR-TIMEZONE:America/Chicago
BEGIN:VTIMEZONE
TZID:America/Chicago
BEGIN:STANDARD
TZNAME:CST
DTSTART:20231105T020000
TZOFFSETFROM:-0500
TZOFFSETTO:-0600
RDATE:20241103T020000
RDATE:20251102T020000
END:STANDARD
BEGIN:DAYLIGHT
TZNAME:CDT
DTSTART:20240310T020000
TZOFFSETFROM:-0600
TZOFFSETTO:-0500
RDATE:20250309T020000
END:DAYLIGHT
END:VTIMEZONE
BEGIN:VEVENT
UID:ca274f73-d9ba-4594-9442-96f4c496f365
DTSTAMP:20260423T221441Z
DESCRIPTION:
DTSTART;TZID=America/Chicago:20240819T170000
DTEND;TZID=America/Chicago:20240819T200000
LOCATION:418 S Atlantic Ave.\, Hallock\, MN 56728 US
SUMMARY:Burger Basket Fundraiser
END:VEVENT
END:VCALENDAR
