BEGIN:VCALENDAR
VERSION:2.0
PRODID:-//kittsonhc.org//NONSGML kigkonsult.se iCalcreator 2.30.10//
CALSCALE:GREGORIAN
METHOD:PUBLISH
UID:104a6e23-8688-4e8c-863c-9ad038a47465
X-WR-CALDESC:
X-WR-RELCALID:9e62024451698bcb96ab153817350de5
X-WR-TIMEZONE:America/Chicago
BEGIN:VTIMEZONE
TZID:America/Chicago
BEGIN:STANDARD
TZNAME:CST
DTSTART:20231105T020000
TZOFFSETFROM:-0500
TZOFFSETTO:-0600
RDATE:20241103T020000
RDATE:20251102T020000
END:STANDARD
BEGIN:DAYLIGHT
TZNAME:CDT
DTSTART:20240310T020000
TZOFFSETFROM:-0600
TZOFFSETTO:-0500
RDATE:20250309T020000
END:DAYLIGHT
END:VTIMEZONE
BEGIN:VEVENT
UID:35100db6-4e36-49aa-b06c-7cdb1a02f361
DTSTAMP:20260423T220845Z
DESCRIPTION:
DTSTART;TZID=America/Chicago:20240813T140000
DTEND;TZID=America/Chicago:20240813T150000
LOCATION:112 Main St\, Lake Bronson\, MN 56734 US
SUMMARY:Lake Bronson Community Ctr Foot Care/BP Checks
END:VEVENT
END:VCALENDAR
