BEGIN:VCALENDAR
VERSION:2.0
PRODID:-//kittsonhc.org//NONSGML kigkonsult.se iCalcreator 2.30.10//
CALSCALE:GREGORIAN
METHOD:PUBLISH
UID:dd07f7f7-1193-4884-8594-cd2ba95d9465
X-WR-CALDESC:
X-WR-RELCALID:8361ddd55b5982c4448a61baf7b0b45c
X-WR-TIMEZONE:America/Chicago
BEGIN:VTIMEZONE
TZID:America/Chicago
BEGIN:STANDARD
TZNAME:CST
DTSTART:20231105T020000
TZOFFSETFROM:-0500
TZOFFSETTO:-0600
RDATE:20241103T020000
RDATE:20251102T020000
END:STANDARD
BEGIN:DAYLIGHT
TZNAME:CDT
DTSTART:20240310T020000
TZOFFSETFROM:-0600
TZOFFSETTO:-0500
RDATE:20250309T020000
END:DAYLIGHT
END:VTIMEZONE
BEGIN:VEVENT
UID:d0be5bbe-ccea-4775-8622-a9caf0de0d4f
DTSTAMP:20260423T221331Z
DESCRIPTION:
DTSTART;TZID=America/Chicago:20240805T100000
DTEND;TZID=America/Chicago:20240805T110000
LOCATION:210 2nd St SW\, Hallock\, MN 56728 US
SUMMARY:The Station Senior Center Foot Care/BP Checks
END:VEVENT
END:VCALENDAR
