BEGIN:VCALENDAR
VERSION:2.0
PRODID:-//kittsonhc.org//NONSGML kigkonsult.se iCalcreator 2.30.10//
CALSCALE:GREGORIAN
METHOD:PUBLISH
UID:f2909543-1796-40e1-929d-e277b225c50e
X-WR-CALDESC:Foot Care/Blood Pressure Checks starting at 2:00 pm.
X-WR-RELCALID:995911d02005646ac621dfb294498027
X-WR-TIMEZONE:America/Chicago
BEGIN:VTIMEZONE
TZID:America/Chicago
BEGIN:STANDARD
TZNAME:CST
DTSTART:20231105T020000
TZOFFSETFROM:-0500
TZOFFSETTO:-0600
RDATE:20241103T020000
RDATE:20251102T020000
END:STANDARD
BEGIN:DAYLIGHT
TZNAME:CDT
DTSTART:20240310T020000
TZOFFSETFROM:-0600
TZOFFSETTO:-0500
RDATE:20250309T020000
END:DAYLIGHT
END:VTIMEZONE
BEGIN:VEVENT
UID:29d1bd4d-c2f7-4a9a-b4f9-d019c8c630a8
DTSTAMP:20260424T013607Z
DESCRIPTION:Foot Care/Blood Pressure Checks starting at 2:00 pm.
DTSTART;TZID=America/Chicago:20240611T140000
DTEND;TZID=America/Chicago:20240611T150000
LOCATION:218 5th St.\, Lake Bronson\, MN 56734 US
SUMMARY:Foot Care and BP Checks
END:VEVENT
END:VCALENDAR
